BEGIN:VCALENDAR
VERSION:2.0
PRODID:-//hacksw/handcal//NONSGML v1.0//EN
CALSCALE:GREGORIAN
BEGIN:VEVENT
LOCATION:Guéret\, France
SUMMARY:« Agir Commun » sur un territoire et entre territoires
DESCRIPTION:« Agir Commun » sur un territoire et entre territoires
DTSTART:20230602T100000
DTEND:20230602T170000
URL;VALUE=URI:https://energy-cities.eu/fr/evenement/agir-commun-sur-un-territoire-et-entre-territoires/
DTSTAMP:now
UID:65976ffba0355
END:VEVENT
END:VCALENDAR