BEGIN:VCALENDAR
VERSION:2.0
PRODID:-//hacksw/handcal//NONSGML v1.0//EN
CALSCALE:GREGORIAN
BEGIN:VEVENT
LOCATION:Hadera\, Israel
SUMMARY:Energy on the beach
DESCRIPTION:Energy on the beach
DTSTART:20191121T000000
DTEND:20191121T000000
URL;VALUE=URI:https://energy-cities.eu/event/energy-on-the-beach/
DTSTAMP:now
UID:65976cecd5040
END:VEVENT
END:VCALENDAR