BEGIN:VCALENDAR
VERSION:2.0
PRODID:-//hacksw/handcal//NONSGML v1.0//EN
CALSCALE:GREGORIAN
BEGIN:VEVENT
LOCATION:Heerlen\, Netherlands
SUMMARY:ANNULÉ &#8211\; Cities and Citizens Energy Forum
DESCRIPTION:ANNULÉ &#8211\; Cities and Citizens Energy Forum
DTSTART:20200915T000000
DTEND:20200917T000000
URL;VALUE=URI:https://energy-cities.eu/fr/evenement/conference-annuelle-denergy-cities-heerlen-2020/
DTSTAMP:now
UID:659765f436dcc
END:VEVENT
END:VCALENDAR