BEGIN:VCALENDAR
VERSION:2.0
PRODID:-//hacksw/handcal//NONSGML v1.0//EN
CALSCALE:GREGORIAN
BEGIN:VEVENT
LOCATION:Heerlen\, Netherlands
SUMMARY:Attractive home renovation service packages for homeowners
DESCRIPTION:Attractive home renovation service packages for homeowners
DTSTART:20200916T090000
DTEND:20200916T170000
URL;VALUE=URI:https://energy-cities.eu/event/attractive-home-renovation-service-packages-for-homeowners/
DTSTAMP:now
UID:65976f15c1532
END:VEVENT
END:VCALENDAR