BEGIN:VCALENDAR
VERSION:2.0
PRODID:-//hacksw/handcal//NONSGML v1.0//EN
CALSCALE:GREGORIAN
BEGIN:VEVENT
LOCATION:Heerlen\, Netherlands
SUMMARY:CANCELLED &#8211\; Cities and Citizens Energy Forum
DESCRIPTION:CANCELLED &#8211\; Cities and Citizens Energy Forum
DTSTART:20200915T000000
DTEND:20200917T000000
URL;VALUE=URI:https://energy-cities.eu/event/energy-cities-annual-conference-heerlen-2020/
DTSTAMP:now
UID:65976bd70e6c8
END:VEVENT
END:VCALENDAR