BEGIN:VCALENDAR
VERSION:2.0
PRODID:-//hacksw/handcal//NONSGML v1.0//EN
CALSCALE:GREGORIAN
BEGIN:VEVENT
LOCATION:Heidelberg\, Germany
SUMMARY:Catalysing European Local Climate Action
DESCRIPTION:Catalysing European Local Climate Action
DTSTART:20190521T000000
DTEND:20190521T000000
URL;VALUE=URI:https://energy-cities.eu/event/catalysing-european-local-climate-action/
DTSTAMP:now
UID:65976ee1a9993
END:VEVENT
END:VCALENDAR