BEGIN:VCALENDAR
VERSION:2.0
PRODID:-//hacksw/handcal//NONSGML v1.0//EN
CALSCALE:GREGORIAN
BEGIN:VEVENT
LOCATION:Heidelberg\, Germany
SUMMARY:Energy Cities Annual Conference
DESCRIPTION:Energy Cities Annual Conference
DTSTART:20190522T000000
DTEND:20190423T000000
URL;VALUE=URI:https://energy-cities.eu/event/energy-cities-annual-conference/
DTSTAMP:now
UID:659768ad95cf5
END:VEVENT
END:VCALENDAR