BEGIN:VCALENDAR
VERSION:2.0
PRODID:-//hacksw/handcal//NONSGML v1.0//EN
CALSCALE:GREGORIAN
BEGIN:VEVENT
LOCATION:Helsingborg\, Sweden
SUMMARY:Urban Future 22: Europe&#8217\;s leading event to make cities sustainable
DESCRIPTION:Urban Future 22: Europe&#8217\;s leading event to make cities sustainable
DTSTART:20220601T000000
DTEND:20220603T000000
URL;VALUE=URI:https://energy-cities.eu/event/uf22-europes-leading-event-to-make-cities-sustainable/
DTSTAMP:now
UID:65976f8527027
END:VEVENT
END:VCALENDAR