BEGIN:VCALENDAR
VERSION:2.0
PRODID:-//hacksw/handcal//NONSGML v1.0//EN
CALSCALE:GREGORIAN
BEGIN:VEVENT
LOCATION:Helsinki\, Finland
SUMMARY:FIDE Autumn School on Citizens&#8217\; Assemblies
DESCRIPTION:FIDE Autumn School on Citizens&#8217\; Assemblies
DTSTART:20231012T000000
DTEND:20230813T000000
URL;VALUE=URI:https://energy-cities.eu/event/autumn-school-on-citizens-assemblies/
DTSTAMP:now
UID:65976f631f0a2
END:VEVENT
END:VCALENDAR