BEGIN:VCALENDAR
VERSION:2.0
PRODID:-//hacksw/handcal//NONSGML v1.0//EN
CALSCALE:GREGORIAN
BEGIN:VEVENT
LOCATION:Heraklion\, Greece
SUMMARY:National Conference &#038\; Policy Meeting for Energy Efficiency in Public Buildings
DESCRIPTION:National Conference &#038\; Policy Meeting for Energy Efficiency in Public Buildings
DTSTART:20190509T000000
DTEND:20190509T000000
URL;VALUE=URI:https://energy-cities.eu/fr/evenement/national-conference-policy-meeting-for-energy-efficiency-in-public-buildings/
DTSTAMP:now
UID:65976babb4583
END:VEVENT
END:VCALENDAR