BEGIN:VCALENDAR
VERSION:2.0
PRODID:-//hacksw/handcal//NONSGML v1.0//EN
CALSCALE:GREGORIAN
BEGIN:VEVENT
LOCATION:Hotel L'Embitu\, Lembitu\, Tallinn\, Estonia
SUMMARY:Empowering Cities: Accelerating the Green Energy Transition
DESCRIPTION:Empowering Cities: Accelerating the Green Energy Transition
DTSTART:20230904T144500
DTEND:20230905T153000
URL;VALUE=URI:https://energy-cities.eu/event/empowering-cities-accelerating-the-green-energy-transition/
DTSTAMP:now
UID:6597639032ad8
END:VEVENT
END:VCALENDAR