BEGIN:VCALENDAR
VERSION:2.0
PRODID:-//hacksw/handcal//NONSGML v1.0//EN
CALSCALE:GREGORIAN
BEGIN:VEVENT
LOCATION:Hotel Metropolo By Golden Tulip\, Orzechowa\, Kraków\, Poland
SUMMARY:Cities Talk Nature Europe: Nature\, places\, people
DESCRIPTION:Cities Talk Nature Europe: Nature\, places\, people
DTSTART:20220921T100000
DTEND:20220922T160000
URL;VALUE=URI:https://energy-cities.eu/event/cities-talk-nature-europe-nature-places-people/
DTSTAMP:now
UID:65976f77aed48
END:VEVENT
END:VCALENDAR