BEGIN:VCALENDAR
VERSION:2.0
PRODID:-//hacksw/handcal//NONSGML v1.0//EN
CALSCALE:GREGORIAN
BEGIN:VEVENT
LOCATION:Katowice\, Poland
SUMMARY:Just\, Productive\, Creative &#038\; Climate-Neutral Cities: R&#038\;I approaches towards sustainable urban transformation
DESCRIPTION:Just\, Productive\, Creative &#038\; Climate-Neutral Cities: R&#038\;I approaches towards sustainable urban transformation
DTSTART:20220629T163000
DTEND:20220629T180000
URL;VALUE=URI:https://energy-cities.eu/event/just-productive-creative-climate-neutral-cities-ri-approaches-towards-sustainable-urban-transformation/
DTSTAMP:now
UID:659770b8df67e
END:VEVENT
END:VCALENDAR