BEGIN:VCALENDAR
VERSION:2.0
PRODID:-//hacksw/handcal//NONSGML v1.0//EN
CALSCALE:GREGORIAN
BEGIN:VEVENT
LOCATION:Katowice\, Poland
SUMMARY:Transforming our Cities for a Better Urban Future
DESCRIPTION:Transforming our Cities for a Better Urban Future
DTSTART:20220626T000000
DTEND:20220630T000000
URL;VALUE=URI:https://energy-cities.eu/event/transforming-our-cities-for-a-better-urban-future/
DTSTAMP:now
UID:65976561e19d4
END:VEVENT
END:VCALENDAR