BEGIN:VCALENDAR
VERSION:2.0
PRODID:-//hacksw/handcal//NONSGML v1.0//EN
CALSCALE:GREGORIAN
BEGIN:VEVENT
LOCATION:Kaunas\, Lituanie
SUMMARY:Building an inclusive and resilient-focused city\, the baltic way
DESCRIPTION:Building an inclusive and resilient-focused city\, the baltic way
DTSTART:20191015T130000
DTEND:20191018T170000
URL;VALUE=URI:https://energy-cities.eu/fr/evenement/building-an-inclusive-and-resilient-focused-city-the-baltic-way-2/
DTSTAMP:now
UID:65976fb896a21
END:VEVENT
END:VCALENDAR