BEGIN:VCALENDAR
VERSION:2.0
PRODID:-//hacksw/handcal//NONSGML v1.0//EN
CALSCALE:GREGORIAN
BEGIN:VEVENT
LOCATION:Kielce\, Poland
SUMMARY:Rural Energy Community Advisory Hub – Launch of the Technical Assistance Programme
DESCRIPTION:Rural Energy Community Advisory Hub – Launch of the Technical Assistance Programme
DTSTART:20220912T140000
DTEND:20220912T170000
URL;VALUE=URI:https://energy-cities.eu/event/rural-energy-community-advisory-hub-launch-of-the-technical-assistance-programme/
DTSTAMP:now
UID:6597700f73c81
END:VEVENT
END:VCALENDAR