BEGIN:VCALENDAR
VERSION:2.0
PRODID:-//hacksw/handcal//NONSGML v1.0//EN
CALSCALE:GREGORIAN
BEGIN:VEVENT
LOCATION:Kragujevac\, Serbia
SUMMARY:Community Solar Serbia
DESCRIPTION:Community Solar Serbia
DTSTART:20230927T000000
DTEND:20230928T000000
URL;VALUE=URI:https://energy-cities.eu/event/community-solar-serbia/
DTSTAMP:now
UID:65976d8975dd2
END:VEVENT
END:VCALENDAR