BEGIN:VCALENDAR
VERSION:2.0
PRODID:-//hacksw/handcal//NONSGML v1.0//EN
CALSCALE:GREGORIAN
BEGIN:VEVENT
LOCATION:Kraków\, Poland
SUMMARY:Energy Community Summer School
DESCRIPTION:Energy Community Summer School
DTSTART:20190824T000000
DTEND:20190831T000000
URL;VALUE=URI:https://energy-cities.eu/event/energy-community-summer-school/
DTSTAMP:now
UID:659769d907c74
END:VEVENT
END:VCALENDAR