BEGIN:VCALENDAR
VERSION:2.0
PRODID:-//hacksw/handcal//NONSGML v1.0//EN
CALSCALE:GREGORIAN
BEGIN:VEVENT
LOCATION:L42 business center & workspaces\, Rue de la Loi\, Brussels\, Belgium
SUMMARY:Boosting Energy Communities in the EU
DESCRIPTION:Boosting Energy Communities in the EU
DTSTART:20220928T090000
DTEND:20220928T003000
URL;VALUE=URI:https://energy-cities.eu/event/boosting-energy-communities-in-the-eu/
DTSTAMP:now
UID:65976885185c7
END:VEVENT
END:VCALENDAR