BEGIN:VCALENDAR
VERSION:2.0
PRODID:-//hacksw/handcal//NONSGML v1.0//EN
CALSCALE:GREGORIAN
BEGIN:VEVENT
LOCATION:La Casa de Iberoamérica\, Cadiz
SUMMARY:Regional learning event around local power &#8211\; for Spanish and Portuguese cities
DESCRIPTION:Regional learning event around local power &#8211\; for Spanish and Portuguese cities
DTSTART:20200917T000000
DTEND:20200918T000000
URL;VALUE=URI:https://energy-cities.eu/event/regional-learning-event-for-spanish-and-portuguese-cities-around-local-power/
DTSTAMP:now
UID:6597669187719
END:VEVENT
END:VCALENDAR