BEGIN:VCALENDAR
VERSION:2.0
PRODID:-//hacksw/handcal//NONSGML v1.0//EN
CALSCALE:GREGORIAN
BEGIN:VEVENT
LOCATION:La Tricoterie\, Rue Théodore Verhaegen 158\, 1060 Bruxelles
SUMMARY:Local Integrated Home Renovation Services: how to make them viable?
DESCRIPTION:Local Integrated Home Renovation Services: how to make them viable?
DTSTART:20220929T083000
DTEND:20220929T160000
URL;VALUE=URI:https://energy-cities.eu/event/local-integrated-home-renovation-services-for-home-energy-renovation-how-to-make-them-viable/
DTSTAMP:now
UID:65976f9d28df1
END:VEVENT
END:VCALENDAR