BEGIN:VCALENDAR
VERSION:2.0
PRODID:-//hacksw/handcal//NONSGML v1.0//EN
CALSCALE:GREGORIAN
BEGIN:VEVENT
LOCATION:La Tricoterie - Fabrique de liens\, Rue Théodore Verhaegen\, Brussels\, Belgium
SUMMARY:Let&#8217\;s have a (climate-)friendly drink together in Brussels!
DESCRIPTION:Let&#8217\;s have a (climate-)friendly drink together in Brussels!
DTSTART:20230620T180000
DTEND:20230620T210000
URL;VALUE=URI:https://energy-cities.eu/event/￼lets-have-a-climate-friendly-drink-together-in-brussels/
DTSTAMP:now
UID:65976a19df159
END:VEVENT
END:VCALENDAR