BEGIN:VCALENDAR
VERSION:2.0
PRODID:-//hacksw/handcal//NONSGML v1.0//EN
CALSCALE:GREGORIAN
BEGIN:VEVENT
LOCATION:La Tricoterie - Fabrique de liens\, Rue Théodore Verhaegen\, Brussels\, Belgium
SUMMARY:Prenons un verre ensemble à Bruxelles !
DESCRIPTION:Prenons un verre ensemble à Bruxelles !
DTSTART:20230620T180000
DTEND:20230620T210000
URL;VALUE=URI:https://energy-cities.eu/fr/evenement/63465/
DTSTAMP:now
UID:65977220bc7ad
END:VEVENT
END:VCALENDAR