BEGIN:VCALENDAR
VERSION:2.0
PRODID:-//hacksw/handcal//NONSGML v1.0//EN
CALSCALE:GREGORIAN
BEGIN:VEVENT
LOCATION:Le Havre\, France
SUMMARY:LH Forum &#8211\; Economie positive
DESCRIPTION:LH Forum &#8211\; Economie positive
DTSTART:20190926T000000
DTEND:20190928T000000
URL;VALUE=URI:https://energy-cities.eu/fr/evenement/lh-forum-economie-positive/
DTSTAMP:now
UID:659776b6016ca
END:VEVENT
END:VCALENDAR