BEGIN:VCALENDAR
VERSION:2.0
PRODID:-//hacksw/handcal//NONSGML v1.0//EN
CALSCALE:GREGORIAN
BEGIN:VEVENT
LOCATION:Le Havre\, France
SUMMARY:LH Forum &#8211\; Positive Economy
DESCRIPTION:LH Forum &#8211\; Positive Economy
DTSTART:20190926T000000
DTEND:20190928T000000
URL;VALUE=URI:https://energy-cities.eu/event/lh-forum-positive-economy/
DTSTAMP:now
UID:65976da9e2cc4
END:VEVENT
END:VCALENDAR