BEGIN:VCALENDAR
VERSION:2.0
PRODID:-//hacksw/handcal//NONSGML v1.0//EN
CALSCALE:GREGORIAN
BEGIN:VEVENT
LOCATION:Le Havre\, France
SUMMARY:LH Forum &#8211\; les territoires en première ligne pour réinventer le monde
DESCRIPTION:LH Forum &#8211\; les territoires en première ligne pour réinventer le monde
DTSTART:20200924T000000
DTEND:20200925T000000
URL;VALUE=URI:https://energy-cities.eu/fr/evenement/lh-forum-les-territoires-en-premiere-ligne-pour-reinventer-le-monde/
DTSTAMP:now
UID:65976e89e563f
END:VEVENT
END:VCALENDAR