BEGIN:VCALENDAR
VERSION:2.0
PRODID:-//hacksw/handcal//NONSGML v1.0//EN
CALSCALE:GREGORIAN
BEGIN:VEVENT
LOCATION:Le Plessis-Robinson\, France
SUMMARY:Architecture and the Edges of Public Space: Tools and Strategies for a New Urban Agenda
DESCRIPTION:Architecture and the Edges of Public Space: Tools and Strategies for a New Urban Agenda
DTSTART:20220518T000000
DTEND:20220520T000000
URL;VALUE=URI:https://energy-cities.eu/event/architecture-and-the-edges-of-public-space-tools-and-strategies-for-a-new-urban-agenda/
DTSTAMP:now
UID:6597777a785d3
END:VEVENT
END:VCALENDAR