BEGIN:VCALENDAR
VERSION:2.0
PRODID:-//hacksw/handcal//NONSGML v1.0//EN
CALSCALE:GREGORIAN
BEGIN:VEVENT
LOCATION:Leicester\, UK
SUMMARY:Second Annual Conference on the SDGs
DESCRIPTION:Second Annual Conference on the SDGs
DTSTART:20200702T000000
DTEND:20200703T000000
URL;VALUE=URI:https://energy-cities.eu/event/second-annual-conference-on-the-sdgs/
DTSTAMP:now
UID:659766fb602f6
END:VEVENT
END:VCALENDAR