BEGIN:VCALENDAR
VERSION:2.0
PRODID:-//hacksw/handcal//NONSGML v1.0//EN
CALSCALE:GREGORIAN
BEGIN:VEVENT
LOCATION:Lille\, France
SUMMARY:Energiesprong : Une approche pour accélérer la rénovation énergétique
DESCRIPTION:Energiesprong : Une approche pour accélérer la rénovation énergétique
DTSTART:20190515T100000
DTEND:20190507T113000
URL;VALUE=URI:https://energy-cities.eu/fr/evenement/energiesprong-une-approche-pour-accelerer-la-renovation-energetique/
DTSTAMP:now
UID:6597650a56635
END:VEVENT
END:VCALENDAR