BEGIN:VCALENDAR
VERSION:2.0
PRODID:-//hacksw/handcal//NONSGML v1.0//EN
CALSCALE:GREGORIAN
BEGIN:VEVENT
LOCATION:Lille\, France
SUMMARY:Rénovation énergétique des bâtiments et ensembles d’immeubles &#8211\; Voyage d’étude
DESCRIPTION:Rénovation énergétique des bâtiments et ensembles d’immeubles &#8211\; Voyage d’étude
DTSTART:20190625T000000
DTEND:20190626T000000
URL;VALUE=URI:https://energy-cities.eu/fr/evenement/renovation-energetique-des-batiments-et-ensembles-dimmeubles-voyage-detude/
DTSTAMP:now
UID:65976d3338c91
END:VEVENT
END:VCALENDAR