BEGIN:VCALENDAR
VERSION:2.0
PRODID:-//hacksw/handcal//NONSGML v1.0//EN
CALSCALE:GREGORIAN
BEGIN:VEVENT
LOCATION:Linz\, Austria
SUMMARY:International bioenergy training
DESCRIPTION:International bioenergy training
DTSTART:20231002T090000
DTEND:20231005T160000
URL;VALUE=URI:https://energy-cities.eu/event/international-bioenergy-training/
DTSTAMP:now
UID:65976df015b3e
END:VEVENT
END:VCALENDAR