BEGIN:VCALENDAR
VERSION:2.0
PRODID:-//hacksw/handcal//NONSGML v1.0//EN
CALSCALE:GREGORIAN
BEGIN:VEVENT
LOCATION:Lisbon\, Portugal
SUMMARY:URBAN FUTURE Global Conference
DESCRIPTION:URBAN FUTURE Global Conference
DTSTART:20200401T000000
DTEND:20200403T000000
URL;VALUE=URI:https://energy-cities.eu/event/urban-future-global-conference/
DTSTAMP:now
UID:65976b53bf30a
END:VEVENT
END:VCALENDAR