BEGIN:VCALENDAR
VERSION:2.0
PRODID:-//hacksw/handcal//NONSGML v1.0//EN
CALSCALE:GREGORIAN
BEGIN:VEVENT
LOCATION:London\, Royaume-Uni
SUMMARY:Smart Cities live: Retrofitting 2019
DESCRIPTION:Smart Cities live: Retrofitting 2019
DTSTART:20191107T000000
DTEND:20191107T000000
URL;VALUE=URI:https://energy-cities.eu/fr/evenement/smart-cities-live-retrofitting-2019/
DTSTAMP:now
UID:65976fe164dce
END:VEVENT
END:VCALENDAR