BEGIN:VCALENDAR
VERSION:2.0
PRODID:-//hacksw/handcal//NONSGML v1.0//EN
CALSCALE:GREGORIAN
BEGIN:VEVENT
LOCATION:Lyon\, France
SUMMARY:Conférence et visites « Smart Cities and Communities »
DESCRIPTION:Conférence et visites « Smart Cities and Communities »
DTSTART:20191017T083000
DTEND:20191018T160000
URL;VALUE=URI:https://energy-cities.eu/fr/evenement/smart-cities-and-communities-conference/
DTSTAMP:now
UID:65976b93e9a64
END:VEVENT
END:VCALENDAR