BEGIN:VCALENDAR
VERSION:2.0
PRODID:-//hacksw/handcal//NONSGML v1.0//EN
CALSCALE:GREGORIAN
BEGIN:VEVENT
LOCATION:Lyon\, France
SUMMARY:Conférence principale du Forum International du logement social « Une planète pour demain »
DESCRIPTION:Conférence principale du Forum International du logement social « Une planète pour demain »
DTSTART:20190605T090000
DTEND:20190612T120000
URL;VALUE=URI:https://energy-cities.eu/event/conference-principale-du-forum-international-du-logement-social-une-planete-pour-demain/
DTSTAMP:now
UID:65976bb57695e
END:VEVENT
END:VCALENDAR