BEGIN:VCALENDAR
VERSION:2.0
PRODID:-//hacksw/handcal//NONSGML v1.0//EN
CALSCALE:GREGORIAN
BEGIN:VEVENT
LOCATION:Lyon\, France
SUMMARY:Smart Cities and Communities conference
DESCRIPTION:Smart Cities and Communities conference
DTSTART:20191017T083000
DTEND:20191018T160000
URL;VALUE=URI:https://energy-cities.eu/event/smart-cities-and-communities-conference/
DTSTAMP:now
UID:6597707b5d8ef
END:VEVENT
END:VCALENDAR