BEGIN:VCALENDAR
VERSION:2.0
PRODID:-//hacksw/handcal//NONSGML v1.0//EN
CALSCALE:GREGORIAN
BEGIN:VEVENT
LOCATION:Málaga\, Spain
SUMMARY:Convergence &#8211\; the Global Blockchain Congress
DESCRIPTION:Convergence &#8211\; the Global Blockchain Congress
DTSTART:20191111T000000
DTEND:20191113T000000
URL;VALUE=URI:https://energy-cities.eu/event/convergence-the-global-blockchain-congress/
DTSTAMP:now
UID:65976d21582bb
END:VEVENT
END:VCALENDAR