BEGIN:VCALENDAR
VERSION:2.0
PRODID:-//hacksw/handcal//NONSGML v1.0//EN
CALSCALE:GREGORIAN
BEGIN:VEVENT
LOCATION:Madrid\, Espagne
SUMMARY:COGEN Europe Annual Conference
DESCRIPTION:COGEN Europe Annual Conference
DTSTART:20191024T135300
DTEND:20191025T000000
URL;VALUE=URI:https://energy-cities.eu/fr/evenement/cogen-europe-annual-conference/
DTSTAMP:now
UID:65976f7251d27
END:VEVENT
END:VCALENDAR