BEGIN:VCALENDAR
VERSION:2.0
PRODID:-//hacksw/handcal//NONSGML v1.0//EN
CALSCALE:GREGORIAN
BEGIN:VEVENT
LOCATION:Madrid\, Spain
SUMMARY:COGEN Europe Annual Conference
DESCRIPTION:COGEN Europe Annual Conference
DTSTART:20191024T000000
DTEND:20191025T000000
URL;VALUE=URI:https://energy-cities.eu/event/cogen-europe-annual-conference/
DTSTAMP:now
UID:65976e2240bf8
END:VEVENT
END:VCALENDAR