BEGIN:VCALENDAR
VERSION:2.0
PRODID:-//hacksw/handcal//NONSGML v1.0//EN
CALSCALE:GREGORIAN
BEGIN:VEVENT
LOCATION:Maison de la Bretagne à Paris\, Rue de l'Arrivée\, Paris\, France
SUMMARY:Rôle des territoires dans la transition énergétique
DESCRIPTION:Rôle des territoires dans la transition énergétique
DTSTART:20230420T000000
DTEND:20230420T000000
URL;VALUE=URI:https://energy-cities.eu/fr/evenement/role-des-territoires-dans-la-transition-energetique/
DTSTAMP:now
UID:65976d8530118
END:VEVENT
END:VCALENDAR