BEGIN:VCALENDAR
VERSION:2.0
PRODID:-//hacksw/handcal//NONSGML v1.0//EN
CALSCALE:GREGORIAN
BEGIN:VEVENT
LOCATION:Maison de la Bretagne à Paris\, Rue de l'Arrivée\, Paris\, France
SUMMARY:Role of European territories in the energy transition
DESCRIPTION:Role of European territories in the energy transition
DTSTART:20230420T090000
DTEND:20230420T180000
URL;VALUE=URI:https://energy-cities.eu/event/role-of-european-territories-in-the-energy-transition/
DTSTAMP:now
UID:65976c65bf23b
END:VEVENT
END:VCALENDAR