BEGIN:VCALENDAR
VERSION:2.0
PRODID:-//hacksw/handcal//NONSGML v1.0//EN
CALSCALE:GREGORIAN
BEGIN:VEVENT
LOCATION:Manchester\, UK
SUMMARY:Degrowth&#8230\; for an ecological economy
DESCRIPTION:Degrowth&#8230\; for an ecological economy
DTSTART:20200901T000000
DTEND:20200905T000000
URL;VALUE=URI:https://energy-cities.eu/event/degrowth-for-an-ecological-economy/
DTSTAMP:now
UID:65976504d222b
END:VEVENT
END:VCALENDAR