BEGIN:VCALENDAR
VERSION:2.0
PRODID:-//hacksw/handcal//NONSGML v1.0//EN
CALSCALE:GREGORIAN
BEGIN:VEVENT
LOCATION:Manchester Central Library\, St Peter's Square\, Manchester\, UK
SUMMARY:Zero Carbon Cities: Targeting Climate Change
DESCRIPTION:Zero Carbon Cities: Targeting Climate Change
DTSTART:20220610T110000
DTEND:20220610T133000
URL;VALUE=URI:https://energy-cities.eu/event/zero-carbon-cities-targeting-climate-change/
DTSTAMP:now
UID:6597672daf140
END:VEVENT
END:VCALENDAR