BEGIN:VCALENDAR
VERSION:2.0
PRODID:-//hacksw/handcal//NONSGML v1.0//EN
CALSCALE:GREGORIAN
BEGIN:VEVENT
LOCATION:Marseille\, France
SUMMARY:European Summit of regions and cities
DESCRIPTION:European Summit of regions and cities
DTSTART:20220303T000000
DTEND:20220304T000000
URL;VALUE=URI:https://energy-cities.eu/event/european-summit-of-regions-and-cities/
DTSTAMP:now
UID:6597661252728
END:VEVENT
END:VCALENDAR