BEGIN:VCALENDAR
VERSION:2.0
PRODID:-//hacksw/handcal//NONSGML v1.0//EN
CALSCALE:GREGORIAN
BEGIN:VEVENT
LOCATION:Marseille\, France
SUMMARY:IUCN Local Action Summit
DESCRIPTION:IUCN Local Action Summit
DTSTART:20210903T000000
DTEND:20210911T000000
URL;VALUE=URI:https://energy-cities.eu/event/iucn-local-action-summit/
DTSTAMP:now
UID:65977176d390e
END:VEVENT
END:VCALENDAR