BEGIN:VCALENDAR
VERSION:2.0
PRODID:-//hacksw/handcal//NONSGML v1.0//EN
CALSCALE:GREGORIAN
BEGIN:VEVENT
LOCATION:Marszałkowska 77/79\, 00-001 Warszawa\, Poland
SUMMARY:LIFE PlanUp multi-stakeholder dialogue: Integrated National Energy and Climate Plan of Poland 2021-2030: Identifying and overcoming barriers to secure effective implementation
DESCRIPTION:LIFE PlanUp multi-stakeholder dialogue: Integrated National Energy and Climate Plan of Poland 2021-2030: Identifying and overcoming barriers to secure effective implementation
DTSTART:20200225T100000
DTEND:20200225T150000
URL;VALUE=URI:https://energy-cities.eu/event/life-planup-multi-stakeholder-dialogue-integrated-national-energy-and-climate-plan-of-poland-2021-2030-identifying-and-overcoming-barriers-to-secure-effective-implementation/
DTSTAMP:now
UID:659777332c900
END:VEVENT
END:VCALENDAR