BEGIN:VCALENDAR
VERSION:2.0
PRODID:-//hacksw/handcal//NONSGML v1.0//EN
CALSCALE:GREGORIAN
BEGIN:VEVENT
LOCATION:Milton Keynes\, UK
SUMMARY:Heating &#038\; cooling planning made easier &#8211\; HOTMAPS training
DESCRIPTION:Heating &#038\; cooling planning made easier &#8211\; HOTMAPS training
DTSTART:20200401T000000
DTEND:20200402T173000
URL;VALUE=URI:https://energy-cities.eu/event/heating-cooling-planning-made-easier-hotmaps-training-3/
DTSTAMP:now
UID:6597690d6ae00
END:VEVENT
END:VCALENDAR