BEGIN:VCALENDAR
VERSION:2.0
PRODID:-//hacksw/handcal//NONSGML v1.0//EN
CALSCALE:GREGORIAN
BEGIN:VEVENT
LOCATION:Milton Keynes\, UK
SUMMARY:Simplification de la planification du chauffage et de climatisation – Formation HOTMAPS
DESCRIPTION:Simplification de la planification du chauffage et de climatisation – Formation HOTMAPS
DTSTART:20200401T000000
DTEND:20200402T000000
URL;VALUE=URI:https://energy-cities.eu/fr/evenement/heating-cooling-planning-made-easier-hotmaps-training-3/
DTSTAMP:now
UID:659769703cc6b
END:VEVENT
END:VCALENDAR