BEGIN:VCALENDAR
VERSION:2.0
PRODID:-//hacksw/handcal//NONSGML v1.0//EN
CALSCALE:GREGORIAN
BEGIN:VEVENT
LOCATION:Modena\, Province of Modena\, Italy
SUMMARY:Energy Cities&#8217\; Annual Forum &#038\; General Meeting
DESCRIPTION:Energy Cities&#8217\; Annual Forum &#038\; General Meeting
DTSTART:20231017T000000
DTEND:20231020T000000
URL;VALUE=URI:https://energy-cities.eu/event/energy-cities-annual-forum-general-meeting/
DTSTAMP:now
UID:65976b8911056
END:VEVENT
END:VCALENDAR