BEGIN:VCALENDAR
VERSION:2.0
PRODID:-//hacksw/handcal//NONSGML v1.0//EN
CALSCALE:GREGORIAN
BEGIN:VEVENT
LOCATION:Mundo-madou\, Av. des Arts 7/8\, 1210 Brussel\, Brussels\, Belgium
SUMMARY:Inclusive energy services to fight energy poverty and empower citizens
DESCRIPTION:Inclusive energy services to fight energy poverty and empower citizens
DTSTART:20230620T090000
DTEND:20230620T120000
URL;VALUE=URI:https://energy-cities.eu/event/inclusive-energy-services-to-fight-energy-poverty-and-empower-citizens/
DTSTAMP:now
UID:659769d78b5d1
END:VEVENT
END:VCALENDAR